BEGIN:VCALENDAR
VERSION:2.0
PRODID:BMA
BEGIN:VEVENT
DTSTART:20261027T130000
DTEND:20261027T140000
DTSTAMP:20260423T102900
URL:https://www.bma.org.uk/events/being-assertive-in-challenging-situations-live-webinar
ORGANIZER;CN=BMA learning and development :mailto:learning@bma.org.uk
UID:9522
CREATED:20260116T154310
SUMMARY:Being assertive in challenging situations - live webinar
DESCRIPTION:Link to event: https://www.bma.org.uk/events/being-assertive-in-challenging-situations-live-webinar\n\nBecome more confident in challenging unhelpful behaviour in the workplace. This webinar will teach you practical strategies and communication skills to help prevent or redirect difficult behaviour and manage situations for better outcomes.
END:VEVENT
END:VCALENDAR
