BEGIN:VCALENDAR
VERSION:2.0
PRODID:BMA
BEGIN:VEVENT
DTSTART:20260609T130000
DTEND:20260609T140000
DTSTAMP:20260422T145824
URL:https://www.bma.org.uk/events/emotional-intelligence-live-webinar
ORGANIZER;CN=BMA Learning and Development :mailto:learning@bma.org.uk
UID:8727
CREATED:20260129T162527
SUMMARY:Emotional intelligence - live webinar
DESCRIPTION:Link to event: https://www.bma.org.uk/events/emotional-intelligence-live-webinar\n\nEmotional intelligence is a critical skill for fostering effective communication, building strong professional relationships, and enhancing resilience in clinical practice. This live webinar focuses on developing your ability to recognise, understand, and manage emotions in yourself and others for improved outcomes in healthcare settings.
END:VEVENT
END:VCALENDAR
