BEGIN:VCALENDAR
VERSION:2.0
PRODID:BMA
BEGIN:VEVENT
DTSTART:20260514T130000
DTEND:20260514T140000
DTSTAMP:20260422T134835
URL:https://www.bma.org.uk/events/accounting-for-the-mccloud-remedy-1pm
UID:216030
CREATED:20260422T130052
SUMMARY:Accounting for the McCloud remedy
DESCRIPTION:Link to event: https://www.bma.org.uk/events/accounting-for-the-mccloud-remedy-1pm\n\nLearn how the McCloud remedy impacts you, hear about your options and next steps, and have your questions answered by experts.
END:VEVENT
END:VCALENDAR
