BEGIN:VCALENDAR
VERSION:2.0
PRODID:BMA
BEGIN:VEVENT
DTSTART:20260612T093000
DTEND:20260612T180000
DTSTAMP:20260421T170428
URL:https://www.bma.org.uk/events/medical-academic-conference-2026
ORGANIZER;CN=Conference Unit:mailto:confunit@bma.org.uk
LOCATION:BMA House Tavistock Square London  WC1H 9JP
UID:215879
CREATED:20260421T133628
SUMMARY:Medical academic conference 2026
DESCRIPTION:Link to event: https://www.bma.org.uk/events/medical-academic-conference-2026\n\nMedical academics: working for the future of healthcare. All doctors engaged in medical academic activities in and out of the NHS, industry, higher education and beyond are invited to attend.
END:VEVENT
END:VCALENDAR
