BEGIN:VCALENDAR
VERSION:2.0
PRODID:BMA
BEGIN:VEVENT
DTSTART:20260507T190000
DTEND:20260507T203000
DTSTAMP:20260423T112642
URL:https://www.bma.org.uk/events/sessional-gps-know-your-rights
ORGANIZER;CN=BMA conferences:mailto:confunit@bma.org.uk
UID:212566
CREATED:20260318T172610
SUMMARY:Sessional GPs: know your rights
DESCRIPTION:Link to event: https://www.bma.org.uk/events/sessional-gps-know-your-rights\n\nFree live online event for all BMA member sessional GPs in the UK.
END:VEVENT
END:VCALENDAR
