BEGIN:VCALENDAR
VERSION:2.0
PRODID:BMA
BEGIN:VEVENT
DTSTART:20261201T170000
DTEND:20261201T180000
DTSTAMP:20260423T155249
URL:https://www.bma.org.uk/events/managing-stress-and-enhancing-wellbeing-in-clinical-practice-live-webinar
ORGANIZER;CN=BMA Learning and Development :mailto:learning@bma.org.uk
UID:173335
CREATED:20260116T154620
SUMMARY:Managing stress and enhancing wellbeing in clinical practice - live webinar
DESCRIPTION:Link to event: https://www.bma.org.uk/events/managing-stress-and-enhancing-wellbeing-in-clinical-practice-live-webinar\n\nClinical practice is demanding, fast-paced, and emotionally charged — leaving little time to pause and reflect. This session offers you the space to explore everyday stressors in clinical work and develop realistic, evidence-based strategies to support your wellbeing.
END:VEVENT
END:VCALENDAR
