BEGIN:VCALENDAR
VERSION:2.0
PRODID:BMA
BEGIN:VEVENT
DTSTART:20261001T130000
DTEND:20261001T140000
DTSTAMP:20260423T103019
URL:https://www.bma.org.uk/events/communication-essentials-live-webinar
ORGANIZER;CN=BMA Learning and Development :mailto:learning@bma.org.uk
UID:173175
CREATED:20260116T154229
SUMMARY:Communication essentials - live webinar
DESCRIPTION:Link to event: https://www.bma.org.uk/events/communication-essentials-live-webinar\n\nWe never stop learning about our own communication skills. Communication is at the heart of successful healthcare practice, enhancing teamwork, patient care, and professional relationships. This webinar provides essential tools and strategies to improve your communication skills in clinical and non-clinical settings.
END:VEVENT
END:VCALENDAR
