BEGIN:VCALENDAR
VERSION:2.0
PRODID:BMA
BEGIN:VEVENT
DTSTART:20261118T130000
DTEND:20261118T140000
DTSTAMP:20260423T103504
URL:https://www.bma.org.uk/events/leadership-essentials-2-live-webinar
ORGANIZER;CN=BMA Learning and Development:mailto:learning@bma.org.uk
UID:14305
CREATED:20260116T154501
SUMMARY:Leadership essentials 2 - live webinar
DESCRIPTION:Link to event: https://www.bma.org.uk/events/leadership-essentials-2-live-webinar\n\nThis live webinar focuses on honing leadership strategies and skills necessary for managing diverse teams, navigating change, and enhancing patient care. 
END:VEVENT
END:VCALENDAR
