BEGIN:VCALENDAR
VERSION:2.0
PRODID:BMA
BEGIN:VEVENT
DTSTART:20261126T130000
DTEND:20261126T140000
DTSTAMP:20260422T231454
URL:https://www.bma.org.uk/events/interview-skills-for-higher-specialty-st34-and-beyond-live-webinar
ORGANIZER;CN=BMA learning and development :mailto:learning@bma.org.uk
UID:10019
CREATED:20260127T140418
SUMMARY:Interview skills for higher specialty (ST3/4) and beyond - live webinar
DESCRIPTION:Link to event: https://www.bma.org.uk/events/interview-skills-for-higher-specialty-st34-and-beyond-live-webinar\n\nThis webinar provides practical tools to help you prepare for interviews for higher specialty training posts, including physician specialties, anaesthetics, paediatrics, and others recruiting at ST4 or ST3 level.
END:VEVENT
END:VCALENDAR
