BEGIN:VCALENDAR
VERSION:2.0
PRODID:BMA
BEGIN:VEVENT
DTSTART:20261209T170000
DTEND:20261209T180000
DTSTAMP:20260423T103622
URL:https://www.bma.org.uk/events/interview-skills-for-st1ct1-live-webinar
ORGANIZER;CN=BMA learning and development :mailto:learning@bma.org.uk
UID:10014
CREATED:20260116T154707
SUMMARY:Interview skills for ST1/CT1 - live webinar
DESCRIPTION:Link to event: https://www.bma.org.uk/events/interview-skills-for-st1ct1-live-webinar\n\nJoin us for a webinar on Interview skills for ST1/CT1, where you'll be guided on how to strategically prepare for your upcoming medical specialty interviews (in-person or virtual) and leave with real, actionable strategies.
END:VEVENT
END:VCALENDAR
